BEGIN:VCALENDAR
PRODID:-//AT Content Types//AT Event//EN
VERSION:2.0
METHOD:PUBLISH
BEGIN:VEVENT
DTSTAMP:20260420T010130Z
CREATED:20100916T125707Z
UID:ATEvent-dd2232bb8b673598af0822585fc0af0a
LAST-MODIFIED:20100916T125734Z
SUMMARY:ESP-WP
DTSTART:20101012T140000Z
DTEND:20101012T153000Z
LOCATION:Lecture Room H
CONTACT:F. Romanelli
URL:https://diploma-clear.ictp.it/courses/weekly-schedule/lecture-room-h/esp-wp-46
CLASS:PUBLIC
END:VEVENT
END:VCALENDAR
