BEGIN:VCALENDAR
PRODID:-//AT Content Types//AT Event//EN
VERSION:1.0
BEGIN:VEVENT
DTSTART:20101008T140000Z
DTEND:20101008T153000Z
DCREATED:20100902T135701Z
UID:ATEvent-8d96e0099b6620d2c504b044c44354bc
SEQUENCE:0
LAST-MODIFIED:20100916T125519Z
SUMMARY:ESP-WP
LOCATION:Lecture Room H
PRIORITY:3
TRANSP:0
END:VEVENT
END:VCALENDAR
