BEGIN:VCALENDAR
PRODID:-//AT Content Types//AT Event//EN
VERSION:1.0
BEGIN:VEVENT
DTSTART:20100924T140000Z
DTEND:20100924T153000Z
DCREATED:20100830T123407Z
UID:ATEvent-1f95a80eefb0fc227693e557a0bbd796
SEQUENCE:0
LAST-MODIFIED:20100830T123429Z
SUMMARY:ESP-WP
LOCATION:Lecture Room H
PRIORITY:3
TRANSP:0
END:VEVENT
END:VCALENDAR
