BEGIN:VCALENDAR
PRODID:-//AT Content Types//AT Event//EN
VERSION:2.0
METHOD:PUBLISH
BEGIN:VEVENT
DTSTAMP:20260423T014258Z
CREATED:20090902T101321Z
UID:ATEvent-614fffbd984727999bc26360264e0b96
LAST-MODIFIED:20090902T101457Z
SUMMARY:ESP-WP
DTSTART:20090907T090000Z
DTEND:20090907T103000Z
LOCATION:Lecture Room H
CONTACT:Fabio Romanelli
URL:https://diploma-clear.ictp.it/courses/weekly-schedule/lecture-room-h/esp-wp-4
CLASS:PUBLIC
END:VEVENT
END:VCALENDAR
