BEGIN:VCALENDAR
PRODID:-//AT Content Types//AT Event//EN
VERSION:1.0
BEGIN:VEVENT
DTSTART:20091013T140000Z
DTEND:20091013T153000Z
DCREATED:20090915T081923Z
UID:ATEvent-d1f172ae8cc55421d19745685e176a24
SEQUENCE:0
LAST-MODIFIED:20090915T081949Z
SUMMARY:ESP-WP
LOCATION:Lecture Room H
PRIORITY:3
TRANSP:0
END:VEVENT
END:VCALENDAR
