BEGIN:VCALENDAR
PRODID:-//AT Content Types//AT Event//EN
VERSION:1.0
BEGIN:VEVENT
DTSTART:20211129T150000Z
DTEND:20211129T163000Z
DCREATED:20210804T133416Z
UID:ATEvent-d07df0aa2e4847af8bd5880de9ddb40c
SEQUENCE:0
LAST-MODIFIED:20211112T141751Z
SUMMARY:ESP-TPA
LOCATION:Lecture Room H
PRIORITY:3
TRANSP:0
END:VEVENT
END:VCALENDAR
