BEGIN:VCALENDAR
PRODID:-//AT Content Types//AT Event//EN
VERSION:2.0
METHOD:PUBLISH
BEGIN:VEVENT
DTSTAMP:20260423T052300Z
CREATED:20090306T154122Z
UID:ATEvent-513a983fd71a2f20634d3613db53bf63
LAST-MODIFIED:20090306T154220Z
SUMMARY:ESP-STH
DTSTART:20090318T100000Z
DTEND:20090318T113000Z
LOCATION:Lecture Room H
CONTACT:Fabio Romanelli
URL:https://diploma-clear.ictp.it/courses/weekly-schedule/lecture-room-h/esp-sth
CLASS:PUBLIC
END:VEVENT
END:VCALENDAR
