BEGIN:VCALENDAR
PRODID:-//AT Content Types//AT Event//EN
VERSION:2.0
METHOD:PUBLISH
BEGIN:VEVENT
DTSTAMP:20260421T134130Z
CREATED:20140109T102836Z
UID:ATEvent-b0932a1b61e5480ebfe277c7757f8ef2
LAST-MODIFIED:20140109T102920Z
SUMMARY:ESP-SEIS tut. 1
DTSTART:20140219T100000Z
DTEND:20140219T113000Z
LOCATION:Lecture Room H
CONTACT:F. Romanelli
URL:https://diploma-clear.ictp.it/courses/weekly-schedule/lecture-room-h/esp-seis-tut-1-1
CLASS:PUBLIC
END:VEVENT
END:VCALENDAR
