BEGIN:VCALENDAR
PRODID:-//AT Content Types//AT Event//EN
VERSION:2.0
METHOD:PUBLISH
BEGIN:VEVENT
DTSTAMP:20260420T204117Z
CREATED:20090116T091937Z
UID:ATEvent-9043fdeefd7ae8875d0793385f3048d6
LAST-MODIFIED:20090220T102918Z
SUMMARY:ESP-SEIS Rdgs.
DTSTART:20090305T150000Z
DTEND:20090305T163000Z
LOCATION:Lecture Room H
CONTACT:Fabio Romanelli
URL:https://diploma-clear.ictp.it/courses/weekly-schedule/lecture-room-h/esp-seis-rdgs-1
CLASS:PUBLIC
END:VEVENT
END:VCALENDAR
