BEGIN:VCALENDAR
PRODID:-//AT Content Types//AT Event//EN
VERSION:2.0
METHOD:PUBLISH
BEGIN:VEVENT
DTSTAMP:20260420T224105Z
CREATED:20090116T091213Z
UID:ATEvent-156bf2103ac3d5f09c446fbdbe819f40
LAST-MODIFIED:20090212T084530Z
SUMMARY:ESP-SEIS
DTSTART:20090219T130000Z
DTEND:20090219T143000Z
LOCATION:Lecture Room H
CONTACT:Fabio Romanelli
URL:https://diploma-clear.ictp.it/courses/weekly-schedule/lecture-room-h/esp-seis-9
CLASS:PUBLIC
END:VEVENT
END:VCALENDAR
