BEGIN:VCALENDAR
PRODID:-//AT Content Types//AT Event//EN
VERSION:1.0
BEGIN:VEVENT
DTSTART:20090217T150000Z
DTEND:20090217T163000Z
DCREATED:20090116T091026Z
UID:ATEvent-4370878fd880925c119d7aa206d1bf3e
SEQUENCE:0
LAST-MODIFIED:20090116T091111Z
SUMMARY:ESP-SEIS
LOCATION:Lecture Room H
PRIORITY:3
TRANSP:0
END:VEVENT
END:VCALENDAR
