BEGIN:VCALENDAR
PRODID:-//AT Content Types//AT Event//EN
VERSION:2.0
METHOD:PUBLISH
BEGIN:VEVENT
DTSTAMP:20260420T191618Z
CREATED:20090116T090922Z
UID:ATEvent-0fae0f7b876e05f3d3503de07bd58dc9
LAST-MODIFIED:20090205T125638Z
SUMMARY:ESP-SEIS
DTSTART:20090212T130000Z
DTEND:20090212T143000Z
LOCATION:Lecture Room H
CONTACT:Fabio Romanelli
URL:https://diploma-clear.ictp.it/courses/weekly-schedule/lecture-room-h/esp-seis-7
CLASS:PUBLIC
END:VEVENT
END:VCALENDAR
