BEGIN:VCALENDAR
PRODID:-//AT Content Types//AT Event//EN
VERSION:2.0
METHOD:PUBLISH
BEGIN:VEVENT
DTSTAMP:20260423T020932Z
CREATED:20090116T090657Z
UID:ATEvent-bc37f4ebd7a0648fe9d9be57915a0463
LAST-MODIFIED:20090129T153958Z
SUMMARY:ESP-SEIS
DTSTART:20090205T130000Z
DTEND:20090205T143000Z
LOCATION:Lecture Room H
CONTACT:Fabio Romanelli
URL:https://diploma-clear.ictp.it/courses/weekly-schedule/lecture-room-h/esp-seis-5
CLASS:PUBLIC
END:VEVENT
END:VCALENDAR
