BEGIN:VCALENDAR
PRODID:-//AT Content Types//AT Event//EN
VERSION:2.0
METHOD:PUBLISH
BEGIN:VEVENT
DTSTAMP:20260420T191804Z
CREATED:20090116T090550Z
UID:ATEvent-0fa149aec1f76decd0ae6614f202df47
LAST-MODIFIED:20090116T090643Z
SUMMARY:ESP-SEIS
DTSTART:20090203T150000Z
DTEND:20090203T163000Z
LOCATION:Lecture Room H
CONTACT:Fabio Romanelli
URL:https://diploma-clear.ictp.it/courses/weekly-schedule/lecture-room-h/esp-seis-4
CLASS:PUBLIC
END:VEVENT
END:VCALENDAR
