BEGIN:VCALENDAR
PRODID:-//AT Content Types//AT Event//EN
VERSION:2.0
METHOD:PUBLISH
BEGIN:VEVENT
DTSTAMP:20260423T021021Z
CREATED:20101216T094603Z
UID:ATEvent-18c712e635d527c3883f97cbcb26b79d
LAST-MODIFIED:20101216T094624Z
SUMMARY:ESP-SEIS
DTSTART:20110301T100000Z
DTEND:20110301T113000Z
LOCATION:Lecture Room H
CONTACT:F. Romanelli
URL:https://diploma-clear.ictp.it/courses/weekly-schedule/lecture-room-h/esp-seis-35
CLASS:PUBLIC
END:VEVENT
END:VCALENDAR
