BEGIN:VCALENDAR
PRODID:-//AT Content Types//AT Event//EN
VERSION:2.0
METHOD:PUBLISH
BEGIN:VEVENT
DTSTAMP:20260420T191807Z
CREATED:20090116T090412Z
UID:ATEvent-8b9046524854531085a09296d0eee1fd
LAST-MODIFIED:20090116T090458Z
SUMMARY:ESP-SEIS
DTSTART:20090129T150000Z
DTEND:20090129T163000Z
LOCATION:Lecture Room H
CONTACT:Fabio Romanelli
URL:https://diploma-clear.ictp.it/courses/weekly-schedule/lecture-room-h/esp-seis-3
CLASS:PUBLIC
END:VEVENT
END:VCALENDAR
