BEGIN:VCALENDAR
PRODID:-//AT Content Types//AT Event//EN
VERSION:1.0
BEGIN:VEVENT
DTSTART:20120404T120000Z
DTEND:20120404T133000Z
DCREATED:20111219T173900Z
UID:ATEvent-6006267220d6d6271f5a593f66383e24
SEQUENCE:0
LAST-MODIFIED:20120523T131738Z
SUMMARY:ESP-RS
LOCATION:Lecture Room H
PRIORITY:3
TRANSP:0
END:VEVENT
END:VCALENDAR
