BEGIN:VCALENDAR
PRODID:-//AT Content Types//AT Event//EN
VERSION:1.0
BEGIN:VEVENT
DTSTART:20120917T120000Z
DTEND:20120917T133000Z
DCREATED:20120913T092602Z
UID:ATEvent-4c847cf112638732330e44c0cac2df20
SEQUENCE:0
LAST-MODIFIED:20120913T094238Z
SUMMARY:ESP Readings (2)
LOCATION:Lecture Room H
PRIORITY:3
TRANSP:0
END:VEVENT
END:VCALENDAR
