BEGIN:VCALENDAR
PRODID:-//AT Content Types//AT Event//EN
VERSION:2.0
METHOD:PUBLISH
BEGIN:VEVENT
DTSTAMP:20260425T225619Z
CREATED:20081023T081705Z
UID:ATEvent-6033c92455f633f2bd5da290a55cdca1
LAST-MODIFIED:20081023T081833Z
SUMMARY:ESP
DTSTART:20081030T130000Z
DTEND:20081030T143000Z
LOCATION:Lecture Room H
CONTACT:Abdelkrim Aoudia
URL:https://diploma-clear.ictp.it/courses/weekly-schedule/lecture-room-h/esp-rdgs
CLASS:PUBLIC
END:VEVENT
END:VCALENDAR
