BEGIN:VCALENDAR
PRODID:-//AT Content Types//AT Event//EN
VERSION:2.0
METHOD:PUBLISH
BEGIN:VEVENT
DTSTAMP:20260422T055234Z
CREATED:20160808T092025Z
UID:ATEvent-ce4a5fbac2994cceb84d3a31839dd54b
LAST-MODIFIED:20160916T085246Z
SUMMARY:ESP-PSE
DTSTART:20160929T120000Z
DTEND:20160929T133000Z
LOCATION:Lecture Room H
CONTACT:A. Aoudia
URL:https://diploma-clear.ictp.it/courses/weekly-schedule/lecture-room-h/esp-pse-24
CLASS:PUBLIC
END:VEVENT
END:VCALENDAR
