BEGIN:VCALENDAR
PRODID:-//AT Content Types//AT Event//EN
VERSION:1.0
BEGIN:VEVENT
DTSTART:20080910T070000Z
DTEND:20080910T103000Z
DCREATED:20080930T134459Z
UID:ATEvent-ca069ecb6e9c27acb832c7432cf93c1b
SEQUENCE:0
LAST-MODIFIED:20080930T134527Z
SUMMARY:ESP presentations
LOCATION:Lecture Room H
PRIORITY:3
TRANSP:0
END:VEVENT
END:VCALENDAR
