BEGIN:VCALENDAR
PRODID:-//AT Content Types//AT Event//EN
VERSION:1.0
BEGIN:VEVENT
DTSTART:20090119T080000Z
DTEND:20090119T093000Z
DCREATED:20090115T144337Z
UID:ATEvent-fc07770af5907658db49aaec9f50971f
SEQUENCE:0
LAST-MODIFIED:20090115T144436Z
SUMMARY:ESP-PO
LOCATION:Lecture Room H
PRIORITY:3
TRANSP:0
END:VEVENT
END:VCALENDAR
