BEGIN:VCALENDAR
PRODID:-//AT Content Types//AT Event//EN
VERSION:1.0
BEGIN:VEVENT
DTSTART:20090320T080000Z
DTEND:20090320T093000Z
DCREATED:20090116T083113Z
UID:ATEvent-098eaf69ddb51104ae334c946021a56d
SEQUENCE:0
LAST-MODIFIED:20090116T083222Z
SUMMARY:ESP-PO Rdgs.
LOCATION:Lecture Room H
PRIORITY:3
TRANSP:0
END:VEVENT
END:VCALENDAR
