BEGIN:VCALENDAR
PRODID:-//AT Content Types//AT Event//EN
VERSION:2.0
METHOD:PUBLISH
BEGIN:VEVENT
DTSTAMP:20260421T173735Z
CREATED:20140826T143030Z
UID:ATEvent-51deea2495c8442cb428d812c122fb52
LAST-MODIFIED:20141112T140103Z
SUMMARY:ESP-PO
DTSTART:20141205T080000Z
DTEND:20141205T093000Z
LOCATION:Lecture Room H
CONTACT:A. Crise
URL:https://diploma-clear.ictp.it/courses/weekly-schedule/lecture-room-h/esp-po-93
CLASS:PUBLIC
END:VEVENT
END:VCALENDAR
