BEGIN:VCALENDAR
PRODID:-//AT Content Types//AT Event//EN
VERSION:2.0
METHOD:PUBLISH
BEGIN:VEVENT
DTSTAMP:20260420T144046Z
CREATED:20090115T152838Z
UID:ATEvent-caf7b25322156bfd2bf8fb508409df41
LAST-MODIFIED:20090217T140720Z
SUMMARY:ESP-PO
DTSTART:20090219T080000Z
DTEND:20090219T093000Z
LOCATION:Lecture Room H
CONTACT:Miroslav Gacic
URL:https://diploma-clear.ictp.it/courses/weekly-schedule/lecture-room-h/esp-po-9
CLASS:PUBLIC
END:VEVENT
END:VCALENDAR
