BEGIN:VCALENDAR
PRODID:-//AT Content Types//AT Event//EN
VERSION:1.0
BEGIN:VEVENT
DTSTART:20131220T080000Z
DTEND:20131220T093000Z
DCREATED:20130820T123402Z
UID:ATEvent-743a63d1805745c293cb6a575f08da73
SEQUENCE:0
LAST-MODIFIED:20131120T135639Z
SUMMARY:ESP-PO
LOCATION:Lecture Room H
PRIORITY:3
TRANSP:0
END:VEVENT
END:VCALENDAR
