BEGIN:VCALENDAR
PRODID:-//AT Content Types//AT Event//EN
VERSION:2.0
METHOD:PUBLISH
BEGIN:VEVENT
DTSTAMP:20260425T200830Z
CREATED:20130820T123401Z
UID:ATEvent-db9979f9fba64d079a579d9d355627d5
LAST-MODIFIED:20131204T161541Z
SUMMARY:ESP-PO
DTSTART:20131213T080000Z
DTEND:20131213T093000Z
LOCATION:Lecture Room H
CONTACT:P. Poulain
URL:https://diploma-clear.ictp.it/courses/weekly-schedule/lecture-room-h/esp-po-78
CLASS:PUBLIC
END:VEVENT
END:VCALENDAR
