BEGIN:VCALENDAR
PRODID:-//AT Content Types//AT Event//EN
VERSION:1.0
BEGIN:VEVENT
DTSTART:20131209T080000Z
DTEND:20131209T093000Z
DCREATED:20130820T123401Z
UID:ATEvent-a267ee24fa724c1ca10cb86aaeccdf39
SEQUENCE:0
LAST-MODIFIED:20131120T135453Z
SUMMARY:ESP-PO
LOCATION:Lecture Room H
PRIORITY:3
TRANSP:0
END:VEVENT
END:VCALENDAR
