BEGIN:VCALENDAR
PRODID:-//AT Content Types//AT Event//EN
VERSION:2.0
METHOD:PUBLISH
BEGIN:VEVENT
DTSTAMP:20260421T213130Z
CREATED:20090115T152057Z
UID:ATEvent-8b4656dac54664c0cf58790fa3c7b767
LAST-MODIFIED:20090115T153756Z
SUMMARY:ESP-PO
DTSTART:20090209T080000Z
DTEND:20090209T093000Z
LOCATION:Lecture Room H
CONTACT:Pierre-Marie Poulain
URL:https://diploma-clear.ictp.it/courses/weekly-schedule/lecture-room-h/esp-po-6
CLASS:PUBLIC
END:VEVENT
END:VCALENDAR
