BEGIN:VCALENDAR
PRODID:-//AT Content Types//AT Event//EN
VERSION:1.0
BEGIN:VEVENT
DTSTART:20111110T100000Z
DTEND:20111110T113000Z
DCREATED:20111027T140640Z
UID:ATEvent-af861e1d5942a8b7cbc146f06633500f
SEQUENCE:0
LAST-MODIFIED:20111027T140719Z
SUMMARY:ESP-PO
LOCATION:Lecture Room H
PRIORITY:3
TRANSP:0
END:VEVENT
END:VCALENDAR
