BEGIN:VCALENDAR
PRODID:-//AT Content Types//AT Event//EN
VERSION:2.0
METHOD:PUBLISH
BEGIN:VEVENT
DTSTAMP:20260420T132846Z
CREATED:20110118T100234Z
UID:ATEvent-3be2b83019d2bb8470693fabd4680bf3
LAST-MODIFIED:20110118T100306Z
SUMMARY:ESP-PO
DTSTART:20110314T080000Z
DTEND:20110314T093000Z
LOCATION:Lecture Room H
CONTACT:A. Crise
URL:https://diploma-clear.ictp.it/courses/weekly-schedule/lecture-room-h/esp-po-46
CLASS:PUBLIC
END:VEVENT
END:VCALENDAR
