BEGIN:VCALENDAR
PRODID:-//AT Content Types//AT Event//EN
VERSION:1.0
BEGIN:VEVENT
DTSTART:20110221T080000Z
DTEND:20110221T093000Z
DCREATED:20101216T093019Z
UID:ATEvent-9ed2b61b281fa019fb000f1a64c1025a
SEQUENCE:0
LAST-MODIFIED:20101216T093032Z
SUMMARY:ESP-PO
LOCATION:Lecture Room H
PRIORITY:3
TRANSP:0
END:VEVENT
END:VCALENDAR
