BEGIN:VCALENDAR
PRODID:-//AT Content Types//AT Event//EN
VERSION:2.0
METHOD:PUBLISH
BEGIN:VEVENT
DTSTAMP:20260421T104305Z
CREATED:20101216T092841Z
UID:ATEvent-1fa57df604c3fc50e3ed365d34b9633b
LAST-MODIFIED:20101216T092907Z
SUMMARY:ESP-PO
DTSTART:20110218T080000Z
DTEND:20110218T093000Z
LOCATION:Lecture Room H
CONTACT:P. M. Poulain
URL:https://diploma-clear.ictp.it/courses/weekly-schedule/lecture-room-h/esp-po-39
CLASS:PUBLIC
END:VEVENT
END:VCALENDAR
