BEGIN:VCALENDAR
PRODID:-//AT Content Types//AT Event//EN
VERSION:1.0
BEGIN:VEVENT
DTSTART:20110209T080000Z
DTEND:20110209T093000Z
DCREATED:20101216T092132Z
UID:ATEvent-b9c7c4454f5a91e51901e7a7a3c02132
SEQUENCE:0
LAST-MODIFIED:20110202T094646Z
SUMMARY:ESP-PO
LOCATION:Lecture Room H
PRIORITY:3
TRANSP:0
END:VEVENT
END:VCALENDAR
