BEGIN:VCALENDAR
PRODID:-//AT Content Types//AT Event//EN
VERSION:2.0
METHOD:PUBLISH
BEGIN:VEVENT
DTSTAMP:20260422T161826Z
CREATED:20191112T145319Z
UID:ATEvent-e85e392c624040f99f6dc52fa7d8c2f8
LAST-MODIFIED:20200225T133159Z
SUMMARY:ESP-PDO
DTSTART:20200309T080000Z
DTEND:20200309T093000Z
LOCATION:Lecture Room H
CONTACT:M. Gacic
URL:https://diploma-clear.ictp.it/courses/weekly-schedule/lecture-room-h/esp-pdo-4
CLASS:PUBLIC
END:VEVENT
END:VCALENDAR
