BEGIN:VCALENDAR
PRODID:-//AT Content Types//AT Event//EN
VERSION:2.0
METHOD:PUBLISH
BEGIN:VEVENT
DTSTAMP:20260422T194252Z
CREATED:20090115T141217Z
UID:ATEvent-3b573935feee471c712fa2a343cabab4
LAST-MODIFIED:20090115T141406Z
SUMMARY:ESP-PA
DTSTART:20090119T150000Z
DTEND:20090119T163000Z
LOCATION:Lecture Room H
CONTACT:Adrian Tompkins
URL:https://diploma-clear.ictp.it/courses/weekly-schedule/lecture-room-h/esp-pa
CLASS:PUBLIC
END:VEVENT
END:VCALENDAR
