BEGIN:VCALENDAR
PRODID:-//AT Content Types//AT Event//EN
VERSION:1.0
BEGIN:VEVENT
DTSTART:20140117T080000Z
DTEND:20140117T093000Z
DCREATED:20131212T140535Z
UID:ATEvent-a19bb71de0cf495bb9f12838dca16e50
SEQUENCE:0
LAST-MODIFIED:20131212T140601Z
SUMMARY:ESP-PA
LOCATION:Lecture Room H
PRIORITY:3
TRANSP:0
END:VEVENT
END:VCALENDAR
