BEGIN:VCALENDAR
PRODID:-//AT Content Types//AT Event//EN
VERSION:1.0
BEGIN:VEVENT
DTSTART:20130117T130000Z
DTEND:20130117T143000Z
DCREATED:20121219T142130Z
UID:ATEvent-66d2b5682bbd7395d3416351b89778fd
SEQUENCE:0
LAST-MODIFIED:20121219T142202Z
SUMMARY:ESP-PA
LOCATION:Lecture Room H
PRIORITY:3
TRANSP:0
END:VEVENT
END:VCALENDAR
