BEGIN:VCALENDAR
PRODID:-//AT Content Types//AT Event//EN
VERSION:1.0
BEGIN:VEVENT
DTSTART:20090128T150000Z
DTEND:20090128T163000Z
DCREATED:20090115T142046Z
UID:ATEvent-c6cdffdbe42a3adfb400c566956aa85e
SEQUENCE:0
LAST-MODIFIED:20090115T142123Z
SUMMARY:ESP-PA
LOCATION:Lecture Room H
PRIORITY:3
TRANSP:0
END:VEVENT
END:VCALENDAR
