BEGIN:VCALENDAR
PRODID:-//AT Content Types//AT Event//EN
VERSION:1.0
BEGIN:VEVENT
DTSTART:20110223T150000Z
DTEND:20110223T163000Z
DCREATED:20101216T093148Z
UID:ATEvent-996789cb44bbabecad95ebb029a02303
SEQUENCE:0
LAST-MODIFIED:20101216T093200Z
SUMMARY:ESP-PA
LOCATION:Lecture Room H
PRIORITY:3
TRANSP:0
END:VEVENT
END:VCALENDAR
