BEGIN:VCALENDAR
PRODID:-//AT Content Types//AT Event//EN
VERSION:1.0
BEGIN:VEVENT
DTSTART:20110221T150000Z
DTEND:20110221T163000Z
DCREATED:20101216T093119Z
UID:ATEvent-159fbe027786c56f6fbaaeb699f05bd8
SEQUENCE:0
LAST-MODIFIED:20101216T093138Z
SUMMARY:ESP-PA
LOCATION:Lecture Room H
PRIORITY:3
TRANSP:0
END:VEVENT
END:VCALENDAR
