BEGIN:VCALENDAR
PRODID:-//AT Content Types//AT Event//EN
VERSION:1.0
BEGIN:VEVENT
DTSTART:20110209T150000Z
DTEND:20110209T163000Z
DCREATED:20101216T092409Z
UID:ATEvent-eac77aff858c08c559d246493ad8dd06
SEQUENCE:0
LAST-MODIFIED:20101216T092428Z
SUMMARY:ESP-PA
LOCATION:Lecture Room H
PRIORITY:3
TRANSP:0
END:VEVENT
END:VCALENDAR
