BEGIN:VCALENDAR
PRODID:-//AT Content Types//AT Event//EN
VERSION:2.0
METHOD:PUBLISH
BEGIN:VEVENT
DTSTAMP:20260419T215214Z
CREATED:20090302T112628Z
UID:ATEvent-fc3e94ce5b4722bcd239ed2d46e19568
LAST-MODIFIED:20090302T112721Z
SUMMARY:ESP-PA
DTSTART:20090402T120000Z
DTEND:20090402T133000Z
LOCATION:Lecture Room H
CONTACT:Adrian Tompkins
URL:https://diploma-clear.ictp.it/courses/weekly-schedule/lecture-room-h/esp-pa-13
CLASS:PUBLIC
END:VEVENT
END:VCALENDAR
