BEGIN:VCALENDAR
PRODID:-//AT Content Types//AT Event//EN
VERSION:2.0
METHOD:PUBLISH
BEGIN:VEVENT
DTSTAMP:20260420T132826Z
CREATED:20090115T143304Z
UID:ATEvent-9700253bb6cb4b1bb3d1432afbfc4347
LAST-MODIFIED:20090115T143350Z
SUMMARY:ESP-PA
DTSTART:20090213T150000Z
DTEND:20090213T163000Z
LOCATION:Lecture Room H
CONTACT:Adrian Tompkins
URL:https://diploma-clear.ictp.it/courses/weekly-schedule/lecture-room-h/esp-pa-11
CLASS:PUBLIC
END:VEVENT
END:VCALENDAR
