BEGIN:VCALENDAR
PRODID:-//AT Content Types//AT Event//EN
VERSION:2.0
METHOD:PUBLISH
BEGIN:VEVENT
DTSTAMP:20260422T195654Z
CREATED:20090115T141426Z
UID:ATEvent-d7ed1ebfdd2d40658f49f1de7c2d7b04
LAST-MODIFIED:20090115T141505Z
SUMMARY:ESP-PA
DTSTART:20090121T150000Z
DTEND:20090121T163000Z
LOCATION:Lecture Room H
CONTACT:Adrian Tompkins
URL:https://diploma-clear.ictp.it/courses/weekly-schedule/lecture-room-h/esp-pa-1
CLASS:PUBLIC
END:VEVENT
END:VCALENDAR
