BEGIN:VCALENDAR
PRODID:-//AT Content Types//AT Event//EN
VERSION:2.0
METHOD:PUBLISH
BEGIN:VEVENT
DTSTAMP:20260423T035049Z
CREATED:20090207T100053Z
UID:ATEvent-d5523b894a4a7fdac8defcdc4fff943a
LAST-MODIFIED:20090207T100134Z
SUMMARY:ESP-NLD
DTSTART:20090507T090000Z
DTEND:20090507T103000Z
LOCATION:Lecture Room H
CONTACT:Alexander Soloviev
URL:https://diploma-clear.ictp.it/courses/weekly-schedule/lecture-room-h/esp-nld-4
CLASS:PUBLIC
END:VEVENT
END:VCALENDAR
