BEGIN:VCALENDAR
PRODID:-//AT Content Types//AT Event//EN
VERSION:2.0
METHOD:PUBLISH
BEGIN:VEVENT
DTSTAMP:20260420T185750Z
CREATED:20090207T095938Z
UID:ATEvent-5aaec1d597c1810f45b91dc289c903f9
LAST-MODIFIED:20090207T100027Z
SUMMARY:ESP-NLD
DTSTART:20090506T090000Z
DTEND:20090506T103000Z
LOCATION:Lecture Room H
CONTACT:Alexander Soloviev
URL:https://diploma-clear.ictp.it/courses/weekly-schedule/lecture-room-h/esp-nld-3
CLASS:PUBLIC
END:VEVENT
END:VCALENDAR
