BEGIN:VCALENDAR
PRODID:-//AT Content Types//AT Event//EN
VERSION:1.0
BEGIN:VEVENT
DTSTART:20110419T120000Z
DTEND:20110419T133000Z
DCREATED:20110215T142523Z
UID:ATEvent-bfe83275905241741db420c01c14f4f4
SEQUENCE:0
LAST-MODIFIED:20110215T142545Z
SUMMARY:ESP-NLD
LOCATION:Lecture Room H
PRIORITY:3
TRANSP:0
END:VEVENT
END:VCALENDAR
