BEGIN:VCALENDAR
PRODID:-//AT Content Types//AT Event//EN
VERSION:2.0
METHOD:PUBLISH
BEGIN:VEVENT
DTSTAMP:20260421T020037Z
CREATED:20090915T092301Z
UID:ATEvent-db55820b9d20dfa4c260f74860ac4889
LAST-MODIFIED:20090915T092324Z
SUMMARY:ESP-MMG
DTSTART:20091012T070000Z
DTEND:20091012T083000Z
LOCATION:Lecture Room H
CONTACT:Fred Kucharski
URL:https://diploma-clear.ictp.it/courses/weekly-schedule/lecture-room-h/esp-mmg-4
CLASS:PUBLIC
END:VEVENT
END:VCALENDAR
