BEGIN:VCALENDAR
PRODID:-//AT Content Types//AT Event//EN
VERSION:1.0
BEGIN:VEVENT
DTSTART:20101104T130000Z
DTEND:20101104T143000Z
DCREATED:20100921T130221Z
UID:ATEvent-3d59bde5c67ee0206ffc365c9336a1e2
SEQUENCE:0
LAST-MODIFIED:20100921T130247Z
SUMMARY:ESP-MM
LOCATION:Lecture Room H
PRIORITY:3
TRANSP:0
END:VEVENT
END:VCALENDAR
